BEGIN:VCALENDAR
VERSION:2.0
CALSCALE:GREGORIAN
BEGIN:VEVENT
SUMMARY:Yin/yang geen les
DTSTART;TZID=Europe/Amsterdam:20220521T093000
DTEND;TZID=Europe/Amsterdam:20220521T103000
LOCATION:Yoga studio
DESCRIPTION: 
STATUS:CONFIRMED
SEQUENCE:0
END:VEVENT
END:VCALENDAR