BEGIN:VCALENDAR
VERSION:2.0
CALSCALE:GREGORIAN
BEGIN:VEVENT
SUMMARY:Strand yoga strandopgang de molen rechts van de Coast
DTSTART;TZID=Europe/Amsterdam:20220831T190000
DTEND;TZID=Europe/Amsterdam:20220831T200000
LOCATION:Yoga studio
DESCRIPTION: 
STATUS:CONFIRMED
SEQUENCE:0
END:VEVENT
END:VCALENDAR