BEGIN:VCALENDAR
VERSION:2.0
CALSCALE:GREGORIAN
BEGIN:VEVENT
SUMMARY:Yin yoga, Let op andere tijd!
DTSTART;TZID=Europe/Amsterdam:20220401T150000
DTEND;TZID=Europe/Amsterdam:20220401T160000
LOCATION:Claes de Wijckerlaan 10, Monster
DESCRIPTION: Yin yoga richt zich op het creëren van ruimte in het bindweefsel en gewrichten. De les staat in het teken van loslaten en ontspanning, je lichaam en geest kunnen herstellen en opladen💛
STATUS:CONFIRMED
SEQUENCE:0
END:VEVENT
END:VCALENDAR