BEGIN:VCALENDAR
VERSION:2.0
CALSCALE:GREGORIAN
BEGIN:VEVENT
SUMMARY:Poweryoga
DTSTART;TZID=Europe/Amsterdam:20220331T190000
DTEND;TZID=Europe/Amsterdam:20220331T200000
LOCATION:Claes de Wijckerlaan 10, Monster
DESCRIPTION: Laat je lichaam weer stromen door deze dynamische yoga vorm, afgeleid van de eeuwenoude traditionele yogavormen. Bij deze poweryoga ligt de focus op het koppelen van de ademhaling aan specifieke bewegingen die je lichaam sterker én flexibeler maken. Kortom: een bewuste full-body workout afgestemd op jouw proces.
STATUS:CONFIRMED
SEQUENCE:0
END:VEVENT
END:VCALENDAR