BEGIN:VCALENDAR
VERSION:2.0
CALSCALE:GREGORIAN
BEGIN:VEVENT
SUMMARY:Flow Hatha les
DTSTART;TZID=Europe/Amsterdam:20260311T184500
DTEND;TZID=Europe/Amsterdam:20260311T194500
LOCATION:Phoenixstraat 66 - Delft
DESCRIPTION: Hier ligt de focus op fysieke uitdagende houdingen. Wel beginnen en eindigen we de les met ontspanning.
STATUS:CONFIRMED
SEQUENCE:0
END:VEVENT
END:VCALENDAR