BEGIN:VCALENDAR
VERSION:2.0
CALSCALE:GREGORIAN
BEGIN:VEVENT
SUMMARY:Vinyasa Hatha Yoga
DTSTART;TZID=Europe/Amsterdam:20260321T093000
DTEND;TZID=Europe/Amsterdam:20260321T103000
LOCATION:Phoenixstraat 66 - Delft
DESCRIPTION: Deze les bestaat uit afwisselende houdingen verbonden op de in en uit adem. Ook doen we een ademhalingsoefening en sluiten we af met een heerlijke eindontspanning. De les wordt rustig opgebouwd naar intensiteit en afgebouwd. Na de les voel je je lekker in je vel en vitaal.
STATUS:CONFIRMED
SEQUENCE:0
END:VEVENT
END:VCALENDAR