BEGIN:VCALENDAR
VERSION:2.0
CALSCALE:GREGORIAN
BEGIN:VEVENT
SUMMARY:Yin Yang Yoga
DTSTART;TZID=Europe/Amsterdam:20260323T093000
DTEND;TZID=Europe/Amsterdam:20260323T103000
LOCATION:Phoenixstraat 66 - Delft
DESCRIPTION: Een fijne les voor het begin van de week. Diepe stretches, kracht en een fijne flow zodat je weer fris en fruitig de week kan beginnen.
STATUS:CONFIRMED
SEQUENCE:0
END:VEVENT
END:VCALENDAR