BEGIN:VCALENDAR
VERSION:2.0
CALSCALE:GREGORIAN
BEGIN:VEVENT
SUMMARY:Lunch Flow
DTSTART;TZID=Europe/Amsterdam:20260225T120000
DTEND;TZID=Europe/Amsterdam:20260225T124500
LOCATION:Phoenixstraat 66 - Delft
DESCRIPTION: A 45 min vinyasa flow during lunch time on Wednesday. Ideal for people who work from home, to get the body moving before lunch.
STATUS:CONFIRMED
SEQUENCE:0
END:VEVENT
END:VCALENDAR