BEGIN:VCALENDAR
VERSION:2.0
CALSCALE:GREGORIAN
BEGIN:VEVENT
SUMMARY:CERCHIO DI EQUINOZIO D&#039;AUTUNNO + COMPLEANNO WAMI
DTSTART;TZID=Europe/Rome:20240921T170000
DTEND;TZID=Europe/Rome:20240921T220000
LOCATION:Bosco Delizia, Casterno
DESCRIPTION: Camminata nel Bosco, Cerchio di Gratitudine, Cena Comunitaria, DJ Set
STATUS:CONFIRMED
SEQUENCE:0
END:VEVENT
END:VCALENDAR