BEGIN:VCALENDAR
VERSION:2.0
CALSCALE:GREGORIAN
BEGIN:VEVENT
SUMMARY:Core yoga
DTSTART;TZID=Europe/Amsterdam:20230611T100000
DTEND;TZID=Europe/Amsterdam:20230611T110000
LOCATION:Oldemarkt
DESCRIPTION: Dynamische yoga en Core stabiliteit
STATUS:CONFIRMED
SEQUENCE:0
END:VEVENT
END:VCALENDAR