BEGIN:VCALENDAR
VERSION:2.0
CALSCALE:GREGORIAN
BEGIN:VEVENT
SUMMARY:XL Power yoga
DTSTART;TZID=Europe/Amsterdam:20260423T194500
DTEND;TZID=Europe/Amsterdam:20260423T213000
LOCATION:Dalzicht - Oldemarkt
DESCRIPTION: https://waroengyoga.com/aanbod/
STATUS:CONFIRMED
SEQUENCE:0
END:VEVENT
END:VCALENDAR