BEGIN:VCALENDAR
VERSION:2.0
CALSCALE:GREGORIAN
BEGIN:VEVENT
SUMMARY:Gentle Hatha
DTSTART;TZID=Europe/Amsterdam:20260511T184500
DTEND;TZID=Europe/Amsterdam:20260511T200000
LOCATION:Dalzicht - Oldemarkt
DESCRIPTION: Docent: Evelien
STATUS:CONFIRMED
SEQUENCE:0
END:VEVENT
END:VCALENDAR