BEGIN:VCALENDAR
VERSION:2.0
CALSCALE:GREGORIAN
BEGIN:VEVENT
SUMMARY:Hot Yoga
DTSTART;TZID=Europe/Oslo:20230531T193000
DTEND;TZID=Europe/Oslo:20230531T210000
LOCATION:wearefamily
DESCRIPTION: 90 minutter med deilig yoga i varmt rom (ca 35 grader). Vi starter rolig liggende på matten, og beveger oss oppover i  stående styrke- og balanseøvelser.  Vi avslutter med øvelser på matten og en god avspenning. Timen gjør deg sterk, myk og smidig, og varmen gjør underverker for kroppen. Verdt å prøve!
STATUS:CONFIRMED
SEQUENCE:0
END:VEVENT
END:VCALENDAR