BEGIN:VCALENDAR
VERSION:2.0
CALSCALE:GREGORIAN
BEGIN:VEVENT
SUMMARY:Yin yoga 75
DTSTART;TZID=Europe/Oslo:20230223T200000
DTEND;TZID=Europe/Oslo:20230223T211000
LOCATION:wearefamily
DESCRIPTION: Yin Yoga er en rolig yogaform der man holder stillingene i 2-5 minutter. Stillingene skal gi en myk strekk til kroppens bindevev, og løse opp i fysiske og emosjonelle spenninger. 
Yin yoga passer for deg som kjenner på stivhet og smerter i kroppen, føler deg mye trøtt, sliten eller stresset / overstimulert. Yin yoga kan ved å løse opp i spenninger og stress føre til økt energi. Yinyoga kan også være nyttig for deg som føler at du har urolig eller for mye energi.
STATUS:CONFIRMED
SEQUENCE:0
END:VEVENT
END:VCALENDAR