BEGIN:VCALENDAR
VERSION:2.0
CALSCALE:GREGORIAN
BEGIN:VEVENT
SUMMARY:Myk yin yoga
DTSTART;TZID=Europe/Oslo:20230423T190000
DTEND;TZID=Europe/Oslo:20230423T201500
LOCATION:wearefamily
DESCRIPTION: En time for hvile, der du kan lande og slappe av. Puste ut uken som har vært og rette fokuset tilbake til deg selv, lune yin stillinger i behagelig varme, klassen avsluttes med en meditasjon for å roe nervesystemet og redusere stress i hverdagen. Klassen passer for alle og det er ingen erfaring nødvendig.
STATUS:CONFIRMED
SEQUENCE:0
END:VEVENT
END:VCALENDAR