BEGIN:VCALENDAR
VERSION:2.0
CALSCALE:GREGORIAN
BEGIN:VEVENT
SUMMARY:Varm styrke og fleksibilitet
DTSTART;TZID=Europe/Oslo:20230420T183000
DTEND;TZID=Europe/Oslo:20230420T193000
LOCATION:wearefamily
DESCRIPTION: 60 minutter variert yoga for styrke, balanse og fleksibilitet
Vi starter og avslutter rolig med fokus på pusten vår. Rommet er godt oppvarmet for en god og varm yogapraksis, så vi får alle de gode effektene av infrarød varme for kroppen (men ikke så varmt som hot yoga)
STATUS:CONFIRMED
SEQUENCE:0
END:VEVENT
END:VCALENDAR