BEGIN:VCALENDAR
VERSION:2.0
CALSCALE:GREGORIAN
BEGIN:VEVENT
SUMMARY:Verdens yogadag
DTSTART;TZID=Europe/Oslo:20230621T170000
DTEND;TZID=Europe/Oslo:20230621T180000
LOCATION:wearefamily
DESCRIPTION: Vi markerer verdens yogadag med en gøy yogatime for små og store ❤️🙏🏻 Vi øver på Solhilsen og jordhilsen, ballongpust, gjør ulike samarbeidsøvelser. Og vi avslutter med å være slappe som seigemenn med sukker på. 
Denne yogaklassen er gratis og åpen for alle aldre..🙏🏻❤️
Du kan komme alene, eller ta med deg datter/sønn/ mor/far/nabo. 
Velkommen 😊
STATUS:CONFIRMED
SEQUENCE:0
END:VEVENT
END:VCALENDAR