BEGIN:VCALENDAR
VERSION:2.0
CALSCALE:GREGORIAN
BEGIN:VEVENT
SUMMARY:Barneyoga kurs
DTSTART;TZID=Europe/Oslo:20231024T170000
DTEND;TZID=Europe/Oslo:20231024T180000
LOCATION:wearefamily
DESCRIPTION: Vi leker med yogastilinger, yogaeventyr, bevegelse og hvile. Vi blir kjent med den fantastiske pusten vår og hvordan den virker i kroppen vår. Vi lærer yogasanger, og - som alltid- seigemanntest! 
Pause i høstferien
STATUS:CONFIRMED
SEQUENCE:0
END:VEVENT
END:VCALENDAR