BEGIN:VCALENDAR
VERSION:2.0
CALSCALE:GREGORIAN
BEGIN:VEVENT
SUMMARY:Meditasjon for manifestering
DTSTART;TZID=Europe/Oslo:20231111T121500
DTEND;TZID=Europe/Oslo:20231111T124500
LOCATION:wearefamily
DESCRIPTION: På lørdag er det den 11 dagen i den 11 måneden, kjent som 11:11 porten innenfor manifisteringens verden. Bli med på en dyp og energigivende meditasjon for å få klarhet og hjelp til å manifestere det hjertet ditt trenger ❤️

Hver tanke, følelse og emosjon vi har er energi. Vi tiltrekker oss alt i livet vårt basert på energien og frekvensen vi gir ut, og den 11:11 er frekvensene rundt oss ekstra ladet!

La oss ta utbytte av dette 🫶
STATUS:CONFIRMED
SEQUENCE:0
END:VEVENT
END:VCALENDAR