BEGIN:VCALENDAR
VERSION:2.0
CALSCALE:GREGORIAN
BEGIN:VEVENT
SUMMARY:Styrkende yoga
DTSTART;TZID=Europe/Oslo:20231030T183000
DTEND;TZID=Europe/Oslo:20231030T193000
LOCATION:wearefamily
DESCRIPTION: Seig og styrkende yoga med fokus på kjernemuskulatur. Vi beveger oss rolig og har med pusten, kjenner at vi kan &quot;skru på&quot; muskler som kanskje har vært litt koblet fra. Og at muskler som har jobbet for mye kan få litt frihet.
Du blir svett og sterk, både mentalt og fysisk. For det sitter mye styrke i hodet, og i å gi slipp på begrensende tanker og mønstre.
Vi starter rolig med å puste og sentrere energien vår. Og avslutter med en liten hvile der hele kroppen får mykne.

Passer for alle som har lyst å kjenne på styrken sin, bygge styrke fra kjernemuskler og ut.
STATUS:CONFIRMED
SEQUENCE:0
END:VEVENT
END:VCALENDAR