BEGIN:VCALENDAR
VERSION:2.0
CALSCALE:GREGORIAN
BEGIN:VEVENT
SUMMARY:Dragedans yoga
DTSTART;TZID=Europe/Oslo:20231107T180000
DTEND;TZID=Europe/Oslo:20231107T190000
LOCATION:wearefamily
DESCRIPTION: Dragedans er rolig og seig, og samtidig styrkende, svett og utfordrende yoga. Øvelsene og flyten stimulere energiflyten i kroppen. Og det kjenner man når man har praktisert litt. Vi flyter med pusten i rolig tempo, og blir varm fra innsiden og ut.  Vi tar det rolig, så det passer både erfarne og nye yogier. Velkommen til en gøy og annerledes yogaklasse!
STATUS:CONFIRMED
SEQUENCE:0
END:VEVENT
END:VCALENDAR