BEGIN:VCALENDAR
VERSION:2.0
CALSCALE:GREGORIAN
BEGIN:VEVENT
SUMMARY:Meditasjon
DTSTART;TZID=Europe/Oslo:20231118T121500
DTEND;TZID=Europe/Oslo:20231118T124500
LOCATION:wearefamily
DESCRIPTION: 30 min guidet meditasjon 
La Christine guide deg mens du hvile i deilig, infrarød varme
STATUS:CONFIRMED
SEQUENCE:0
END:VEVENT
END:VCALENDAR