BEGIN:VCALENDAR
VERSION:2.0
CALSCALE:GREGORIAN
BEGIN:VEVENT
SUMMARY:Rolig yoga 75
DTSTART;TZID=Europe/Oslo:20250107T183000
DTEND;TZID=Europe/Oslo:20250107T194500
LOCATION:wearefamily
DESCRIPTION: Rolig yoga for hele kroppen, med Yin inspirerte øvelser ispedd noe lett styrke. Passer alle nivåer, også nybegynner. Lun varme gjør godt for blodsirkulasjon og kan lindre muskelsmerter.
STATUS:CONFIRMED
SEQUENCE:0
END:VEVENT
END:VCALENDAR