BEGIN:VCALENDAR
VERSION:2.0
CALSCALE:GREGORIAN
BEGIN:VEVENT
SUMMARY:Yoga met de yogabal Week van de Ochtendyoga
DTSTART;TZID=Europe/Amsterdam:20180719T103000
DTEND;TZID=Europe/Amsterdam:20180719T113000
LOCATION:Zaagstraat 10
DESCRIPTION: Een yogabal of stabiliteitsbal is in een opblaasbare rubberen bal met een doorsnede van 65 cm en wordt specifiek voor yoga-oefeningen gebruikt. Deze yogabal wordt voornamelijk gebruikt om meer balans en stabiliteit te bewerkstelligen, waarbij de yogabal wordt gebruikt om met het volledige lichaam op te rusten (hurken, zitten, liggen etc.) of om beet te houden tijdens statische yogaposes en dynamische yogabewegingen.
STATUS:CONFIRMED
SEQUENCE:0
END:VEVENT
END:VCALENDAR