BEGIN:VCALENDAR
VERSION:2.0
CALSCALE:GREGORIAN
BEGIN:VEVENT
SUMMARY:Hatha Yoga (NIEUW/PROEFLES)
DTSTART;TZID=Europe/Amsterdam:20170520T103000
DTEND;TZID=Europe/Amsterdam:20170520T114500
LOCATION:Zaagstraat 10
DESCRIPTION: Deze statische vorm van yoga combineert oefeningen (asana&#039;s) met gebruik van een rustige adem tot een geheel. Er is veel aandacht voor de adem en voor alignment, wat voor een meer gestroomlijnd, krachtiger, maar vooral soepeler lichaam zorgt.
STATUS:CONFIRMED
SEQUENCE:0
END:VEVENT
END:VCALENDAR