BEGIN:VCALENDAR
VERSION:2.0
CALSCALE:GREGORIAN
BEGIN:VEVENT
SUMMARY:Vinyasa flow yoga
DTSTART;TZID=Europe/Amsterdam:20191025T103000
DTEND;TZID=Europe/Amsterdam:20191025T114500
LOCATION:Zaagstraat 10
DESCRIPTION: Vinyasa yoga is een dynamische vorm van yoga waarbij je in een flow van de ene houding naar de andere houding overgaat en de ademhaling centraal staat. De geest wordt tot rust gebracht en je creëert warmte in het lichaam. Hierdoor verlaten afvalstoffen je lichaam en ontwikkel je meer kracht, concentratie, uithoudingsvermogen en flexibiliteit  De basis van deze les wordt gevormd door de zonnegroet en hieromheen worden verschillende staande, zittende en liggende houdingen aangenomen. We beginnen de les met een korte meditatie om in het hier en nu te komen en de les wordt afgesloten met een ontspanning.
STATUS:CONFIRMED
SEQUENCE:0
END:VEVENT
END:VCALENDAR