BEGIN:VCALENDAR
VERSION:2.0
CALSCALE:GREGORIAN
BEGIN:VEVENT
SUMMARY:Back to Balance - Yoga &amp; Yogatherapie
DTSTART;TZID=Europe/Berlin:20250313T073000
DTEND;TZID=Europe/Berlin:20250313T083000
LOCATION:Ludwigstr. 3 , 86316 Friedberg
DESCRIPTION: In dieser Yogastunde erlebst Du wie vielfältig dein Körper ist und wie Kräftigungsübungen, Balance, Yogatherapie, Elastizität und Flexibilität deinen Körper verändern können.
Eine Yogastunde mit kleinen zusätzlichen Übungen, die es in sich haben ;) 
Ziel ist es, den Körper muskulär ausgzugleichen und zu kräftigen und zugleich den Geist zur Ruhe zu bringen. Auch Yoga-Atemübungen und Entspannung finden Raum. 
Diese Praxis ist perfekt für Yogis die eine umfassende und ausgewogene Yoga-Erfahrung suchen.
STATUS:CONFIRMED
SEQUENCE:0
END:VEVENT
END:VCALENDAR