BEGIN:VCALENDAR
VERSION:2.0
CALSCALE:GREGORIAN
BEGIN:VEVENT
SUMMARY:Therapeutisches Yoga: Zurück zu Gesundheit
DTSTART;TZID=Europe/Berlin:20251010T101500
DTEND;TZID=Europe/Berlin:20251010T111500
LOCATION:Ludwigstr.3, 86316 Friedberg (bei Augsburg) - werk8sam
DESCRIPTION: In diesem Kurs praktizieren wir Yoga auf besonders sanfte und therapeutische Weise. Er ist ideal für Menschen mit gesundheitlichen Einschränkungen oder nach Verletzungen. Mit achtsamen Bewegungen kräftigen und dehnen wir den gesamten Körper, nehmen uns Zeit, jede Haltung bewusst einzunehmen und auszuführen. So wird auch bei Bewegungseinschränkungen eine gesunde, wohltuende Praxis möglich. Der Körper findet zurück zu Kraft und Gleichgewicht, während der Geist zur Ruhe kommt.
STATUS:CONFIRMED
SEQUENCE:0
END:VEVENT
END:VCALENDAR