BEGIN:VCALENDAR
VERSION:2.0
CALSCALE:GREGORIAN
BEGIN:VEVENT
SUMMARY:Themen-Reihe Oktober und November: Balance &amp; Focus
DTSTART;TZID=Europe/Berlin:20251023T181500
DTEND;TZID=Europe/Berlin:20251023T191500
LOCATION:Ludwigstr.3, 86316 Friedberg (bei Augsburg) - werk8sam
DESCRIPTION: Jeden Donnerstag erwartet dich eine Yogastunde mit wechselndem Schwerpunkt:
mal kräftigend, mal entspannend – aber immer inspirierend.

🌸 Beispielthemen: Detox Flow, Heart Opener, Yin Journey, Grounding Yoga u.v.m.

Das aktuelle Thema findest du hier: 
2.10. Slow Balance Yin 
09.10. Focus &amp; Flow
16.10. Core Strength
23.10. Full Moon Gentle Flow 
30.10. Grounding Flow
6.11. Balance Flow

Weitere Themenreihen starten im Dezember (Urlaubsbedingte Pausierung der Kurse vom 11.11.-1.12.25)
STATUS:CONFIRMED
SEQUENCE:0
END:VEVENT
END:VCALENDAR