BEGIN:VCALENDAR
VERSION:2.0
CALSCALE:GREGORIAN
BEGIN:VEVENT
SUMMARY:Energy Flow Yoga
DTSTART;TZID=America/Chicago:20250123T093000
DTEND;TZID=America/Chicago:20250123T103000
LOCATION:615 N Sherman Ave
DESCRIPTION: Loan&#039;s energy flow yoga class gently guides you through restorative asanas and breathwork, helping you sync mind and body while quieting your mind. This practice fosters awareness and is a foundational step on your wellness journey—come join and begin your path to inner peace.
STATUS:CONFIRMED
SEQUENCE:0
END:VEVENT
END:VCALENDAR