BEGIN:VCALENDAR
VERSION:2.0
CALSCALE:GREGORIAN
BEGIN:VEVENT
SUMMARY:Vinyasa Yoga
DTSTART;TZID=America/Chicago:20241003T180000
DTEND;TZID=America/Chicago:20241003T190000
LOCATION:615 N Sherman Ave
DESCRIPTION: Ian’s vinyasa (flow yoga) class emphasizes balance, strength, and relaxation, fostering a positive environment with a focus on peaceful breathing and full range of motion. Suitable for all skill levels, his classes create strength and fluidity in both body and mind.
STATUS:CONFIRMED
SEQUENCE:0
END:VEVENT
END:VCALENDAR