BEGIN:VCALENDAR
VERSION:2.0
CALSCALE:GREGORIAN
BEGIN:VEVENT
SUMMARY:Full Moon Cacao Ceremony &amp; Sound Bath
DTSTART;TZID=Europe/Madrid:20230406T170000
DTEND;TZID=Europe/Madrid:20230406T200000
LOCATION:Wings of Wellness
DESCRIPTION: 🇬🇧 En Esp Abajo🇪🇸👇
What will happen during the ceremony?

We will begin by setting our intentions for the ceremony - being clear about your intention will help cacao to work her magic with you. We will mindfully drink the Cacao experiencing it’s warmth and presence in the body and you will then lie down and be guided to a deep meditation state through yoga nidra and sound bath, letting the therapeutic vibrations from the sounds as these medicines do their healing work. There is nothing for you to do as you take an inner voyage with the plant and sounds as your guides.

Comforting tea and healthy biscuits will be provided after the ceremony as we enjoy some time to share and write down any insights or wisdom that you&#039;ve gained, whilst basking in the cacao glow ❤
.
Things you might experience
A heart opening

Deep relaxation

Feelings of joy &amp;amp; upliftment

Connection to your inner voice

An emotional release

A sense of peace and well-being

A heightening of your senses

Gentle visions and guidance

Clarity and stillness
.
🇪🇸
¿Qué pasará durante la ceremonia? Comenzaremos estableciendo nuestras intenciones para la ceremonia: tener claras tus intenciones ayudará a que el cacao haga su magia contigo. Beberemos el Cacao conscientemente experimentando su calidez y presencia en el cuerpo y luego te acostarás y serás guiado a un estado de meditación profunda a través de yoga nidra y baño de sonido, dejando que las vibraciones terapéuticas de los sonidos hagan su trabajo curativo. No tienes nada que hacer mientras haces un viaje interior con la planta y los sonidos como guías. Se proporcionará té reconfortante y galletas saludables después de la ceremonia mientras disfrutamos de un tiempo para compartir y escribir cualquier conocimiento o sabiduría que haya adquirido, mientras disfruta del brillo del cacao ❤ . 
Cosas que podrías experimentar
Una apertura de corazón Relajación profunda 
Sentimientos de alegría y elevación Conexión con tu voz interior 
Una liberación emocional 
Una sensación de paz y bienestar. 
Una exaltación de tus sentidos 
Visiones suaves y guía 
Claridad y quietud
STATUS:CONFIRMED
SEQUENCE:0
END:VEVENT
END:VCALENDAR