BEGIN:VCALENDAR
VERSION:2.0
CALSCALE:GREGORIAN
BEGIN:VEVENT
SUMMARY:Aerial Yoga with Lorena
DTSTART;TZID=Europe/Madrid:20250616T103000
DTEND;TZID=Europe/Madrid:20250616T113000
LOCATION:Wings of Wellness
DESCRIPTION: **English:**  
This dynamic aerial class is inspired by Rocket Yoga, blending strength, flexibility, and playful movement in the hammock. You&amp;#039;ll flow through powerful sequences with inversions, arm balances, and deep stretches—all supported by the fabric to help you explore new heights in your practice.

**Spanish:**  
Esta clase aérea dinámica está inspirada en el Rocket Yoga, y combina fuerza, flexibilidad y movimiento lúdico en el columpio. Fluirás a través de secuencias poderosas con inversiones, balances de brazos y estiramientos profundos, todo con el apoyo de la tela para ayudarte a explorar nuevas alturas en tu práctica.
STATUS:CONFIRMED
SEQUENCE:0
END:VEVENT
END:VCALENDAR