BEGIN:VCALENDAR
VERSION:2.0
CALSCALE:GREGORIAN
BEGIN:VEVENT
SUMMARY:Energised Flow with Mariana
DTSTART;TZID=Europe/Madrid:20250818T103000
DTEND;TZID=Europe/Madrid:20250818T113000
LOCATION:Wings of Wellness
DESCRIPTION: Unlock tension and enhance flexibility with this medium-paced, full-body deep stretching class. Ideal for all levels, this session focuses on long holds and mindful breathing to release tight muscles and improve mobility.
STATUS:CONFIRMED
SEQUENCE:0
END:VEVENT
END:VCALENDAR