BEGIN:VCALENDAR
VERSION:2.0
CALSCALE:GREGORIAN
BEGIN:VEVENT
SUMMARY:Mindful Hatha with Orsi
DTSTART;TZID=Europe/Madrid:20250212T120000
DTEND;TZID=Europe/Madrid:20250212T130000
LOCATION:
DESCRIPTION: 
STATUS:CONFIRMED
SEQUENCE:0
END:VEVENT
END:VCALENDAR