BEGIN:VCALENDAR
VERSION:2.0
CALSCALE:GREGORIAN
BEGIN:VEVENT
SUMMARY:Aerial Yoga with Cristina B
DTSTART;TZID=Europe/Madrid:20250704T183000
DTEND;TZID=Europe/Madrid:20250704T193000
LOCATION:
DESCRIPTION: 
STATUS:CONFIRMED
SEQUENCE:0
END:VEVENT
END:VCALENDAR