BEGIN:VCALENDAR
VERSION:2.0
CALSCALE:GREGORIAN
BEGIN:VEVENT
SUMMARY:Barre Pilates with Nadeya
DTSTART;TZID=Europe/Madrid:20251031T180000
DTEND;TZID=Europe/Madrid:20251031T193000
LOCATION:
DESCRIPTION: English:
&quot;Barre-less Pilates combines the strength and posture benefits of Pilates with the flow of barre-inspired movements—without the need for a barre. A full-body, low-impact workout designed to improve balance, flexibility, and core strength.&quot;

Español:
&quot;Pilates sin barra combina los beneficios de fuerza y postura del Pilates con el flujo de movimientos inspirados en barre—sin necesidad de barra. Un entrenamiento de bajo impacto y de cuerpo completo que mejora el equilibrio, la flexibilidad y la fuerza del core.&quot;
STATUS:CONFIRMED
SEQUENCE:0
END:VEVENT
END:VCALENDAR