BEGIN:VCALENDAR
VERSION:2.0
CALSCALE:GREGORIAN
BEGIN:VEVENT
SUMMARY:Energised Flow with Mariana
DTSTART;TZID=Europe/Madrid:20250821T121500
DTEND;TZID=Europe/Madrid:20250821T131500
LOCATION:
DESCRIPTION: Energising Flow es una clase de Vinyasa Flow rapida pero suave diseñado para trabajar suavemente y abrir el cuerpo relajar y calmar la mente ocupada. Apto para todos los niveles.
STATUS:CONFIRMED
SEQUENCE:0
END:VEVENT
END:VCALENDAR