BEGIN:VCALENDAR
VERSION:2.0
CALSCALE:GREGORIAN
BEGIN:VEVENT
SUMMARY:Rocket  Yoga with Andrea
DTSTART;TZID=Europe/Madrid:20221019T080000
DTEND;TZID=Europe/Madrid:20221019T090000
LOCATION:Wings of Wellness Studio
DESCRIPTION: Rocket Yoga is a dynamic and fast-paced flow of yoga. The structure is similar to that of Ashtanga Vinyasa.  Students are encouraged to make their own interpretation of the traditional asana and can remove or modify binding postures. This makes the sequence accessible to all practitioners, even those who may have structural disabilities who would otherwise not be able to practice traditional Ashtanga Yoga methods..
.
Rocket Yoga es un flujo de yoga dinámico y acelerado. La estructura es similar a la de Ashtanga Vinyasa. Se alienta a los estudiantes a hacer su propia interpretación de la asana tradicional y pueden eliminar o modificar las posturas vinculantes. Esto hace que la secuencia sea accesible para todos los practicantes, incluso para aquellos que pueden tener discapacidades estructurales que de otro modo no podrían practicar los métodos tradicionales de Ashtanga Yoga.
STATUS:CONFIRMED
SEQUENCE:0
END:VEVENT
END:VCALENDAR