BEGIN:VCALENDAR
VERSION:2.0
CALSCALE:GREGORIAN
BEGIN:VEVENT
SUMMARY:Yoga Fit
DTSTART;TZID=Pacific/Honolulu:20220322T070000
DTEND;TZID=Pacific/Honolulu:20220322T080000
LOCATION:Wisdom Flow Studio - on MAUI
DESCRIPTION: Yoga Fit is 40 minutes of rhythmic cardio, strength training and core followed by 15 minutes of hip openers and a one-minute silent meditation. Movement and music will get your energy high and aligned early in the day and carry you along with a smile!
STATUS:CONFIRMED
SEQUENCE:0
END:VEVENT
END:VCALENDAR