BEGIN:VCALENDAR
VERSION:2.0
CALSCALE:GREGORIAN
BEGIN:VEVENT
SUMMARY:Live Stream Vin/Yin
DTSTART;TZID=Pacific/Honolulu:20220404T123000
DTEND;TZID=Pacific/Honolulu:20220404T133000
LOCATION:https://zoom.us, ID 356-339-6262 pwd 052235
DESCRIPTION: Embrace our midday offering to activate your body and calm your mind. Heating Yang postures intertwined with classic vinyasa flow work in tandem to bring awareness to the space within the body, while cooling Yin postures help us to move deeper into that space. VinYin is perfect blend of movement and stillness ending with a blissful Savasana.
STATUS:CONFIRMED
SEQUENCE:0
END:VEVENT
END:VCALENDAR