BEGIN:VCALENDAR
VERSION:2.0
CALSCALE:GREGORIAN
BEGIN:VEVENT
SUMMARY:Creative Propping
DTSTART;TZID=Pacific/Honolulu:20220529T140000
DTEND;TZID=Pacific/Honolulu:20220529T160000
LOCATION:Wisdom Flow Studio - on MAUI
DESCRIPTION: Explore creative way to use your yoga props to deepen the therapeutics of your practice and build better alignment habits.  Learn to use props to build a restorative sequence for your home practice.  Each participant receives a picture-filled document outlining the workshop poses and prop set ups.
STATUS:CONFIRMED
SEQUENCE:0
END:VEVENT
END:VCALENDAR