BEGIN:VCALENDAR
VERSION:2.0
CALSCALE:GREGORIAN
BEGIN:VEVENT
SUMMARY:Sound Bath Ceremony
DTSTART;TZID=Pacific/Honolulu:20220611T183000
DTEND;TZID=Pacific/Honolulu:20220611T200000
LOCATION:Wisdom Flow Studio - on MAUI
DESCRIPTION: In these Full Moon Sound Bath Ceremonies, Tria weaves together Quartz Crystal Singing Bowls, sound healing instruments, soulful vocals, and the songs of the Humpback Whales to create rich healing vibrations that reach us on a cellular level. The seven Crystal singing bowls are tuned to the frequencies of our seven chakras (energy centers). You are invited to bathe in these tones and frequencies to support your body, mind and spirit to vibrate in an optimal and balanced state. Wear comfortable clothes and bring yoga mat and any extra blankets or pillows to enhance your comfort.
STATUS:CONFIRMED
SEQUENCE:0
END:VEVENT
END:VCALENDAR