BEGIN:VCALENDAR
VERSION:2.0
CALSCALE:GREGORIAN
BEGIN:VEVENT
SUMMARY:Journey to the Heart with Gentle Thunder
DTSTART;TZID=Pacific/Honolulu:20220730T183000
DTEND;TZID=Pacific/Honolulu:20220730T200000
LOCATION:Wisdom Flow Studio - on MAUI
DESCRIPTION: New Moon Sound Journey: Gentle Thunder will take you on a meditative journey back in time, into the future, then back to the present where you may experience deep levels of self healing, and a profound discovery of self-love!
STATUS:CONFIRMED
SEQUENCE:0
END:VEVENT
END:VCALENDAR