BEGIN:VCALENDAR
VERSION:2.0
CALSCALE:GREGORIAN
BEGIN:VEVENT
SUMMARY:TRX &amp; Yoga
DTSTART;TZID=Pacific/Honolulu:20221219T090000
DTEND;TZID=Pacific/Honolulu:20221219T100000
LOCATION:Wisdom Flow Studio - on MAUI
DESCRIPTION: TRX &amp;amp; Yoga blends suspension resistance training and yoga asana for a balanced bodyweight movement practice. The TRX suspension trainer will be used to assist postures and create strength to take your yoga practice to another level.
STATUS:CONFIRMED
SEQUENCE:0
END:VEVENT
END:VCALENDAR