BEGIN:VCALENDAR
VERSION:2.0
CALSCALE:GREGORIAN
BEGIN:VEVENT
SUMMARY:Saturnalia - Dancing Medicine
DTSTART;TZID=Pacific/Honolulu:20221217T183000
DTEND;TZID=Pacific/Honolulu:20221217T200000
LOCATION:Wisdom Flow Studio - on MAUI
DESCRIPTION: An Open Floor/Dancing Medicine production. A Solstice Dance Event.
STATUS:CONFIRMED
SEQUENCE:0
END:VEVENT
END:VCALENDAR