BEGIN:VCALENDAR
VERSION:2.0
CALSCALE:GREGORIAN
BEGIN:VEVENT
SUMMARY:Feldenkrais Workshop
DTSTART;TZID=Pacific/Honolulu:20221218T103000
DTEND;TZID=Pacific/Honolulu:20221218T130000
LOCATION:Wisdom Flow Studio - on MAUI
DESCRIPTION: Awareness Through Movement focused on freeing the spine.  This Feldenkrais workshop is led by long-time practitioner and trainer Jerry Karzen.
STATUS:CONFIRMED
SEQUENCE:0
END:VEVENT
END:VCALENDAR