BEGIN:VCALENDAR
VERSION:2.0
CALSCALE:GREGORIAN
BEGIN:VEVENT
SUMMARY:Live Stream - Mindful Yoga
DTSTART;TZID=Pacific/Honolulu:20220309T183000
DTEND;TZID=Pacific/Honolulu:20220309T194500
LOCATION:https://zoom.us
DESCRIPTION: Happy hump day!  Wind down each Wednesday evening with mindfulness.  Slow flow and gentle Hatha mixed with restorative asanas to help you find some mid-week ease.   Mindful Yoga encourages us to be more fully present in each moment, in each postures, and with each breath. Inspirational quotes, poems and songs are woven through the practice to elevate, heal and inspire you.
STATUS:CONFIRMED
SEQUENCE:0
END:VEVENT
END:VCALENDAR