BEGIN:VCALENDAR
VERSION:2.0
CALSCALE:GREGORIAN
BEGIN:VEVENT
SUMMARY:108 Sun Salutations
DTSTART;TZID=Australia/Perth:20200621T080000
DTEND;TZID=Australia/Perth:20200621T100000
LOCATION:TBA
DESCRIPTION: 
STATUS:CONFIRMED
SEQUENCE:0
END:VEVENT
END:VCALENDAR