BEGIN:VCALENDAR
VERSION:2.0
CALSCALE:GREGORIAN
BEGIN:VEVENT
SUMMARY:Park OUTDOOR ~ Ashtanga
DTSTART;TZID=Australia/Perth:20210105T180000
DTEND;TZID=Australia/Perth:20210105T190000
LOCATION:Cruentas Way, Halls Head
DESCRIPTION: 
STATUS:CONFIRMED
SEQUENCE:0
END:VEVENT
END:VCALENDAR